BEGIN:VCALENDAR
VERSION:2.0
PRODID:AVS
CALSCALE:GREGORIAN
REFRESH-INTERVAL;VALUE=DURATION:PT1H
BEGIN:VEVENT
DTSTART:20230817T000000
DTEND:20230817T000000
LOCATION:abgesagt
DTSTAMP:20260420T131936
SUMMARY:Fit durchs Jahr
DESCRIPTION:Link: https://alpenverein.it/veranstaltung/id-fcba8fb0-9262-42e8-969c-320ec6e923a7/
UID:fcba8fb0-9262-42e8-969c-320ec6e923a7
BEGIN:VALARM
ACTION:DISPLAY
DESCRIPTION:REMINDER
TRIGGER:-PT48H
END:VALARM
END:VEVENT
END:VCALENDAR