BEGIN:VCALENDAR
VERSION:2.0
PRODID:AVS
CALSCALE:GREGORIAN
REFRESH-INTERVAL;VALUE=DURATION:PT1H
BEGIN:VEVENT
DTSTART:20240824T000000
DTEND:20240825T000000
LOCATION:
DTSTAMP:20260424T052825
SUMMARY:Vioz-Überschreitung
DESCRIPTION:Link: https://alpenverein.it/veranstaltung/id-fa621dcb-ea6d-4f2c-96c9-ac2b81021368/
UID:fa621dcb-ea6d-4f2c-96c9-ac2b81021368
BEGIN:VALARM
ACTION:DISPLAY
DESCRIPTION:REMINDER
TRIGGER:-PT48H
END:VALARM
END:VEVENT
END:VCALENDAR