BEGIN:VCALENDAR
VERSION:2.0
PRODID:AVS
CALSCALE:GREGORIAN
REFRESH-INTERVAL;VALUE=DURATION:PT1H
BEGIN:VEVENT
DTSTART:20260516T000000
DTEND:20260516T000000
LOCATION:
DTSTAMP:20260423T222002
SUMMARY:Höhlenausflug Sporminor „Bus Della Spia“
DESCRIPTION:Link: https://alpenverein.it/veranstaltung/id-f4e14f59-4648-4c00-abe6-63605ea9abd5/
UID:f4e14f59-4648-4c00-abe6-63605ea9abd5
BEGIN:VALARM
ACTION:DISPLAY
DESCRIPTION:REMINDER
TRIGGER:-PT48H
END:VALARM
END:VEVENT
END:VCALENDAR