BEGIN:VCALENDAR
VERSION:2.0
PRODID:AVS
CALSCALE:GREGORIAN
REFRESH-INTERVAL;VALUE=DURATION:PT1H
BEGIN:VEVENT
DTSTART:20220813T060000
DTEND:20220813T060000
LOCATION:Pfunderer Berge
DTSTAMP:20260420T092452
SUMMARY:Bergtour Überschreitung Napfspitz (Pfunderer Berge)
DESCRIPTION:Link: https://alpenverein.it/veranstaltung/id-f44e59ad-c5f2-488e-8c70-8c974cd88d16/
UID:f44e59ad-c5f2-488e-8c70-8c974cd88d16
BEGIN:VALARM
ACTION:DISPLAY
DESCRIPTION:REMINDER
TRIGGER:-PT48H
END:VALARM
END:VEVENT
END:VCALENDAR