BEGIN:VCALENDAR
VERSION:2.0
PRODID:AVS
CALSCALE:GREGORIAN
REFRESH-INTERVAL;VALUE=DURATION:PT1H
BEGIN:VEVENT
DTSTART:20230520T000000
DTEND:20230520T000000
LOCATION:
DTSTAMP:20260424T071223
SUMMARY:Spiele ohne Grenzen mit dem Jugendzentrum Fly
DESCRIPTION:Link: https://alpenverein.it/veranstaltung/id-ece0ba3e-fae2-441d-b92d-0ccbb5b21572/
UID:ece0ba3e-fae2-441d-b92d-0ccbb5b21572
BEGIN:VALARM
ACTION:DISPLAY
DESCRIPTION:REMINDER
TRIGGER:-PT48H
END:VALARM
END:VEVENT
END:VCALENDAR