BEGIN:VCALENDAR
VERSION:2.0
PRODID:AVS
CALSCALE:GREGORIAN
REFRESH-INTERVAL;VALUE=DURATION:PT1H
BEGIN:VEVENT
DTSTART:20260829T000000
DTEND:20260829T000000
LOCATION:Matscher Berge
DTSTAMP:20260422T031944
SUMMARY:Bergtour Litzer- Überschreitung
DESCRIPTION:Link: https://alpenverein.it/veranstaltung/id-ea016cef-616d-4ac9-a289-6523696ef89a/
UID:ea016cef-616d-4ac9-a289-6523696ef89a
BEGIN:VALARM
ACTION:DISPLAY
DESCRIPTION:REMINDER
TRIGGER:-PT48H
END:VALARM
END:VEVENT
END:VCALENDAR