BEGIN:VCALENDAR
VERSION:2.0
PRODID:AVS
CALSCALE:GREGORIAN
REFRESH-INTERVAL;VALUE=DURATION:PT1H
BEGIN:VEVENT
DTSTART:20230820T070000
DTEND:20230820T070000
LOCATION:Schnals
DTSTAMP:20260422T191614
SUMMARY:Wanderung Kurzras - Taschenjöchl (2.772 m) - Berglalm
DESCRIPTION:Link: https://alpenverein.it/veranstaltung/id-e92cc456-080d-47ed-98e7-cc79e38cb240/
UID:e92cc456-080d-47ed-98e7-cc79e38cb240
BEGIN:VALARM
ACTION:DISPLAY
DESCRIPTION:REMINDER
TRIGGER:-PT48H
END:VALARM
END:VEVENT
END:VCALENDAR