BEGIN:VCALENDAR
VERSION:2.0
PRODID:AVS
CALSCALE:GREGORIAN
REFRESH-INTERVAL;VALUE=DURATION:PT1H
BEGIN:VEVENT
DTSTART:20260719T000000
DTEND:20260719T000000
LOCATION:Ahrntal
DTSTAMP:20260422T031531
SUMMARY:Gletscherwandelführung als Klimapreis
DESCRIPTION:Link: https://alpenverein.it/veranstaltung/id-e7025fc7-3ba0-460b-b357-fae35d6b3d83/
UID:e7025fc7-3ba0-460b-b357-fae35d6b3d83
BEGIN:VALARM
ACTION:DISPLAY
DESCRIPTION:REMINDER
TRIGGER:-PT48H
END:VALARM
END:VEVENT
END:VCALENDAR