BEGIN:VCALENDAR
VERSION:2.0
PRODID:AVS
CALSCALE:GREGORIAN
REFRESH-INTERVAL;VALUE=DURATION:PT1H
BEGIN:VEVENT
DTSTART:20240406T000000
DTEND:20240406T000000
LOCATION:Gebiet Garda-Tennosee
DTSTAMP:20260421T114552
SUMMARY:Wander- und Genießertruppe: Frühlingwanderung
DESCRIPTION:Link: https://alpenverein.it/veranstaltung/id-dfdbc603-0811-43af-a8a0-f9e3848d82bd/
UID:dfdbc603-0811-43af-a8a0-f9e3848d82bd
BEGIN:VALARM
ACTION:DISPLAY
DESCRIPTION:REMINDER
TRIGGER:-PT48H
END:VALARM
END:VEVENT
END:VCALENDAR