BEGIN:VCALENDAR
VERSION:2.0
PRODID:AVS
CALSCALE:GREGORIAN
REFRESH-INTERVAL;VALUE=DURATION:PT1H
BEGIN:VEVENT
DTSTART:20260705T000000
DTEND:20260705T000000
LOCATION:Villgratner Berge
DTSTAMP:20260422T031708
SUMMARY:Bergtour Rote Spitze-Weiße Spitze
DESCRIPTION:Link: https://alpenverein.it/veranstaltung/id-d7f469f2-da1a-429e-a1b1-2d3b069e33c2/
UID:d7f469f2-da1a-429e-a1b1-2d3b069e33c2
BEGIN:VALARM
ACTION:DISPLAY
DESCRIPTION:REMINDER
TRIGGER:-PT48H
END:VALARM
END:VEVENT
END:VCALENDAR