BEGIN:VCALENDAR
VERSION:2.0
PRODID:AVS
CALSCALE:GREGORIAN
REFRESH-INTERVAL;VALUE=DURATION:PT1H
BEGIN:VEVENT
DTSTART:20260429T000000
DTEND:20260429T000000
LOCATION:
DTSTAMP:20260423T220031
SUMMARY:After work Wanderung: Tramin-Graun 
DESCRIPTION:Link: https://alpenverein.it/veranstaltung/id-d4f758d0-a5bf-4a3d-baf5-0018f8bbccd5/
UID:d4f758d0-a5bf-4a3d-baf5-0018f8bbccd5
BEGIN:VALARM
ACTION:DISPLAY
DESCRIPTION:REMINDER
TRIGGER:-PT48H
END:VALARM
END:VEVENT
END:VCALENDAR