BEGIN:VCALENDAR
VERSION:2.0
PRODID:AVS
CALSCALE:GREGORIAN
REFRESH-INTERVAL;VALUE=DURATION:PT1H
BEGIN:VEVENT
DTSTART:20260802T000000
DTEND:20260802T000000
LOCATION:Schweiz
DTSTAMP:20260422T031658
SUMMARY:Wanderung im Münstertal
DESCRIPTION:Link: https://alpenverein.it/veranstaltung/id-d4ddb6ea-92c5-434b-b2ef-ca1a1da14812/
UID:d4ddb6ea-92c5-434b-b2ef-ca1a1da14812
BEGIN:VALARM
ACTION:DISPLAY
DESCRIPTION:REMINDER
TRIGGER:-PT48H
END:VALARM
END:VEVENT
END:VCALENDAR