BEGIN:VCALENDAR
VERSION:2.0
PRODID:AVS
CALSCALE:GREGORIAN
REFRESH-INTERVAL;VALUE=DURATION:PT1H
BEGIN:VEVENT
DTSTART:20220522T000000
DTEND:20220522T000000
LOCATION:Welsberg/Taisten
DTSTAMP:20260421T202117
SUMMARY:Familienbergtour Lutterkopf-Durakopf
DESCRIPTION:Link: https://alpenverein.it/veranstaltung/id-cc648e73-0aab-417c-8833-1db596eab16b/
UID:cc648e73-0aab-417c-8833-1db596eab16b
BEGIN:VALARM
ACTION:DISPLAY
DESCRIPTION:REMINDER
TRIGGER:-PT48H
END:VALARM
END:VEVENT
END:VCALENDAR