BEGIN:VCALENDAR
VERSION:2.0
PRODID:AVS
CALSCALE:GREGORIAN
REFRESH-INTERVAL;VALUE=DURATION:PT1H
BEGIN:VEVENT
DTSTART:20230727T000000
DTEND:20230730T235900
LOCATION:Toblach
DTSTAMP:20260425T123332
SUMMARY:Hüttenlager Landro
DESCRIPTION:Link: https://alpenverein.it/veranstaltung/id-c9c52599-2698-4034-a0df-43c3eacbf7ae/
UID:c9c52599-2698-4034-a0df-43c3eacbf7ae
BEGIN:VALARM
ACTION:DISPLAY
DESCRIPTION:REMINDER
TRIGGER:-PT48H
END:VALARM
END:VEVENT
END:VCALENDAR