BEGIN:VCALENDAR
VERSION:2.0
PRODID:AVS
CALSCALE:GREGORIAN
REFRESH-INTERVAL;VALUE=DURATION:PT1H
BEGIN:VEVENT
DTSTART:20240831T000000
DTEND:20240907T000000
LOCATION:Piemont Val Maira
DTSTAMP:20260421T101952
SUMMARY:Wander - Trekking in der Val Maira in
DESCRIPTION:Link: https://alpenverein.it/veranstaltung/id-c9792c95-515d-4708-aadf-0063332c5c27/
UID:c9792c95-515d-4708-aadf-0063332c5c27
BEGIN:VALARM
ACTION:DISPLAY
DESCRIPTION:REMINDER
TRIGGER:-PT48H
END:VALARM
END:VEVENT
END:VCALENDAR