BEGIN:VCALENDAR
VERSION:2.0
PRODID:AVS
CALSCALE:GREGORIAN
REFRESH-INTERVAL;VALUE=DURATION:PT1H
BEGIN:VEVENT
DTSTART:20231123T000000
DTEND:20231123T000000
LOCATION:Lago Santa Colomba (Trient)
DTSTAMP:20260424T191251
SUMMARY:Fit durchs Jahr
DESCRIPTION:Link: https://alpenverein.it/veranstaltung/id-c134e7c7-9033-408e-be4e-f880c1b52cb6/
UID:c134e7c7-9033-408e-be4e-f880c1b52cb6
BEGIN:VALARM
ACTION:DISPLAY
DESCRIPTION:REMINDER
TRIGGER:-PT48H
END:VALARM
END:VEVENT
END:VCALENDAR