BEGIN:VCALENDAR
VERSION:2.0
PRODID:AVS
CALSCALE:GREGORIAN
REFRESH-INTERVAL;VALUE=DURATION:PT1H
BEGIN:VEVENT
DTSTART:20230708T070000
DTEND:20230708T190000
LOCATION:Andalo
DTSTAMP:20260422T191636
SUMMARY:Brentagebirge
DESCRIPTION:Link: https://alpenverein.it/veranstaltung/id-be4b95bf-210c-435f-9cc7-f1c09d628ea8/
UID:be4b95bf-210c-435f-9cc7-f1c09d628ea8
BEGIN:VALARM
ACTION:DISPLAY
DESCRIPTION:REMINDER
TRIGGER:-PT48H
END:VALARM
END:VEVENT
END:VCALENDAR