BEGIN:VCALENDAR
VERSION:2.0
PRODID:AVS
CALSCALE:GREGORIAN
REFRESH-INTERVAL;VALUE=DURATION:PT1H
BEGIN:VEVENT
DTSTART:20221204T000000
DTEND:20221204T000000
LOCATION:Ritten
DTSTAMP:20260421T102807
SUMMARY:Familien: Rundwanderung am Ritten
DESCRIPTION:Link: https://alpenverein.it/veranstaltung/id-b7f415f9-6c0d-4062-b6ea-3dfaab5411dd/
UID:b7f415f9-6c0d-4062-b6ea-3dfaab5411dd
BEGIN:VALARM
ACTION:DISPLAY
DESCRIPTION:REMINDER
TRIGGER:-PT48H
END:VALARM
END:VEVENT
END:VCALENDAR