BEGIN:VCALENDAR
VERSION:2.0
PRODID:AVS
CALSCALE:GREGORIAN
REFRESH-INTERVAL;VALUE=DURATION:PT1H
BEGIN:VEVENT
DTSTART:20240510T000000
DTEND:20240512T213000
LOCATION:Steiermark (A)
DTSTAMP:20260423T012518
SUMMARY:Frühlingsfahrt in die Steiermark
DESCRIPTION:Link: https://alpenverein.it/veranstaltung/id-b4fc889d-4471-433b-b0ef-ac86dc4761cb/
UID:b4fc889d-4471-433b-b0ef-ac86dc4761cb
BEGIN:VALARM
ACTION:DISPLAY
DESCRIPTION:REMINDER
TRIGGER:-PT48H
END:VALARM
END:VEVENT
END:VCALENDAR