BEGIN:VCALENDAR
VERSION:2.0
PRODID:AVS
CALSCALE:GREGORIAN
REFRESH-INTERVAL;VALUE=DURATION:PT1H
BEGIN:VEVENT
DTSTART:20230427T000000
DTEND:20230427T000000
LOCATION:Gadertal
DTSTAMP:20260424T142254
SUMMARY:Geh mit: Gadertal
DESCRIPTION:Link: https://alpenverein.it/veranstaltung/id-aa1f2135-4ef2-4410-9281-81ccfe63196d/
UID:aa1f2135-4ef2-4410-9281-81ccfe63196d
BEGIN:VALARM
ACTION:DISPLAY
DESCRIPTION:REMINDER
TRIGGER:-PT48H
END:VALARM
END:VEVENT
END:VCALENDAR