BEGIN:VCALENDAR
VERSION:2.0
PRODID:AVS
CALSCALE:GREGORIAN
REFRESH-INTERVAL;VALUE=DURATION:PT1H
BEGIN:VEVENT
DTSTART:20240821T070000
DTEND:20240821T070000
LOCATION:Waalweg in Schluderns (Vinschgau)
DTSTAMP:20260423T012410
SUMMARY:Seniorenwanderung
DESCRIPTION:Link: https://alpenverein.it/veranstaltung/id-9ed5bee8-b149-4645-aa9e-edd343fda927/
UID:9ed5bee8-b149-4645-aa9e-edd343fda927
BEGIN:VALARM
ACTION:DISPLAY
DESCRIPTION:REMINDER
TRIGGER:-PT48H
END:VALARM
END:VEVENT
END:VCALENDAR