BEGIN:VCALENDAR
VERSION:2.0
PRODID:AVS
CALSCALE:GREGORIAN
REFRESH-INTERVAL;VALUE=DURATION:PT1H
BEGIN:VEVENT
DTSTART:20220206T000000
DTEND:20220206T000000
LOCATION:
DTSTAMP:20260423T221808
SUMMARY:Schneeschuhwanderung
DESCRIPTION:Link: https://alpenverein.it/veranstaltung/id-99e6f3d5-48b2-4ce2-8c14-23d79b606a4e/
UID:99e6f3d5-48b2-4ce2-8c14-23d79b606a4e
BEGIN:VALARM
ACTION:DISPLAY
DESCRIPTION:REMINDER
TRIGGER:-PT48H
END:VALARM
END:VEVENT
END:VCALENDAR