BEGIN:VCALENDAR
VERSION:2.0
PRODID:AVS
CALSCALE:GREGORIAN
REFRESH-INTERVAL;VALUE=DURATION:PT1H
BEGIN:VEVENT
DTSTART:20260428T000000
DTEND:20260428T000000
LOCATION:Zans\, Villnöß
DTSTAMP:20260422T031955
SUMMARY:Anmeldeschluss - AVS Jugend Bozen - Hüttenlager Zans
DESCRIPTION:Link: https://alpenverein.it/veranstaltung/id-8efad39e-57f0-4884-854a-2b25ddd4c69b/
UID:8efad39e-57f0-4884-854a-2b25ddd4c69b-registration
BEGIN:VALARM
ACTION:DISPLAY
DESCRIPTION:REMINDER
TRIGGER:-PT48H
END:VALARM
END:VEVENT
BEGIN:VEVENT
DTSTART:20260418T000000
DTEND:20260418T000000
LOCATION:Zans\, Villnöß
DTSTAMP:20260422T031955
SUMMARY:Erinnerung Anmeldeschluss - AVS Jugend Bozen - Hüttenlager Zans
DESCRIPTION:Link: https://alpenverein.it/veranstaltung/id-8efad39e-57f0-4884-854a-2b25ddd4c69b/
UID:8efad39e-57f0-4884-854a-2b25ddd4c69b-registration
BEGIN:VALARM
ACTION:DISPLAY
DESCRIPTION:REMINDER
TRIGGER:-PT1H
END:VALARM
END:VEVENT
BEGIN:VEVENT
DTSTART:20260501T000000
DTEND:20260503T180000
LOCATION:Zans\, Villnöß
DTSTAMP:20260422T031955
SUMMARY:AVS Jugend Bozen - Hüttenlager Zans
DESCRIPTION:Link: https://alpenverein.it/veranstaltung/id-8efad39e-57f0-4884-854a-2b25ddd4c69b/
UID:8efad39e-57f0-4884-854a-2b25ddd4c69b
BEGIN:VALARM
ACTION:DISPLAY
DESCRIPTION:REMINDER
TRIGGER:-PT48H
END:VALARM
END:VEVENT
END:VCALENDAR