BEGIN:VCALENDAR
VERSION:2.0
PRODID:AVS
CALSCALE:GREGORIAN
REFRESH-INTERVAL;VALUE=DURATION:PT1H
BEGIN:VEVENT
DTSTART:20220814T000000
DTEND:20220814T000000
LOCATION:Tschengelser Hochwart
DTSTAMP:20260421T101425
SUMMARY:Alpinisten-Bergtour
DESCRIPTION:Link: https://alpenverein.it/veranstaltung/id-8dfd8ef7-c65b-4054-8a4a-87aeaa000a21/
UID:8dfd8ef7-c65b-4054-8a4a-87aeaa000a21
BEGIN:VALARM
ACTION:DISPLAY
DESCRIPTION:REMINDER
TRIGGER:-PT48H
END:VALARM
END:VEVENT
END:VCALENDAR