BEGIN:VCALENDAR
VERSION:2.0
PRODID:AVS
CALSCALE:GREGORIAN
REFRESH-INTERVAL;VALUE=DURATION:PT1H
BEGIN:VEVENT
DTSTART:20220626T000000
DTEND:20220627T010000
LOCATION:St. Pankraz
DTSTAMP:20260426T003313
SUMMARY:Herz-Jesu-Feuer am Laugen
DESCRIPTION:Link: https://alpenverein.it/veranstaltung/id-8ac2c0f4-1162-417d-a909-a09fdecce86a/
UID:8ac2c0f4-1162-417d-a909-a09fdecce86a
BEGIN:VALARM
ACTION:DISPLAY
DESCRIPTION:REMINDER
TRIGGER:-PT48H
END:VALARM
END:VEVENT
END:VCALENDAR