BEGIN:VCALENDAR
VERSION:2.0
PRODID:AVS
CALSCALE:GREGORIAN
REFRESH-INTERVAL;VALUE=DURATION:PT1H
BEGIN:VEVENT
DTSTART:20260507T000000
DTEND:20260507T000000
LOCATION:
DTSTAMP:20260422T031842
SUMMARY:Von Verdins über den Waalweg nach Schenna
DESCRIPTION:Link: https://alpenverein.it/veranstaltung/id-86a7cca6-4ec2-4a17-9630-7631d537a86a/
UID:86a7cca6-4ec2-4a17-9630-7631d537a86a
BEGIN:VALARM
ACTION:DISPLAY
DESCRIPTION:REMINDER
TRIGGER:-PT48H
END:VALARM
END:VEVENT
END:VCALENDAR