BEGIN:VCALENDAR
VERSION:2.0
PRODID:AVS
CALSCALE:GREGORIAN
REFRESH-INTERVAL;VALUE=DURATION:PT1H
BEGIN:VEVENT
DTSTART:20260516T070000
DTEND:20260516T180000
LOCATION:Fennberg
DTSTAMP:20260422T031842
SUMMARY:50-Jahrfeier Klettersteig Fennberg
DESCRIPTION:Link: https://alpenverein.it/veranstaltung/id-84d64a50-4261-4d5f-b55e-5f3e05a7b378/
UID:84d64a50-4261-4d5f-b55e-5f3e05a7b378
BEGIN:VALARM
ACTION:DISPLAY
DESCRIPTION:REMINDER
TRIGGER:-PT48H
END:VALARM
END:VEVENT
END:VCALENDAR