BEGIN:VCALENDAR
VERSION:2.0
PRODID:AVS
CALSCALE:GREGORIAN
REFRESH-INTERVAL;VALUE=DURATION:PT1H
BEGIN:VEVENT
DTSTART:20260430T000000
DTEND:20260430T000000
LOCATION:Arco
DTSTAMP:20260422T031827
SUMMARY:Anmeldeschluss - Klettertour Arco, San Paolo
DESCRIPTION:Link: https://alpenverein.it/veranstaltung/id-7eec1ba6-56f7-4ecd-b477-b423cde958c2/
UID:7eec1ba6-56f7-4ecd-b477-b423cde958c2-registration
BEGIN:VALARM
ACTION:DISPLAY
DESCRIPTION:REMINDER
TRIGGER:-PT48H
END:VALARM
END:VEVENT
BEGIN:VEVENT
DTSTART:20260420T000000
DTEND:20260420T000000
LOCATION:Arco
DTSTAMP:20260422T031827
SUMMARY:Erinnerung Anmeldeschluss - Klettertour Arco, San Paolo
DESCRIPTION:Link: https://alpenverein.it/veranstaltung/id-7eec1ba6-56f7-4ecd-b477-b423cde958c2/
UID:7eec1ba6-56f7-4ecd-b477-b423cde958c2-registration
BEGIN:VALARM
ACTION:DISPLAY
DESCRIPTION:REMINDER
TRIGGER:-PT1H
END:VALARM
END:VEVENT
BEGIN:VEVENT
DTSTART:20260502T070000
DTEND:20260502T070000
LOCATION:Arco
DTSTAMP:20260422T031827
SUMMARY:Klettertour Arco, San Paolo
DESCRIPTION:Link: https://alpenverein.it/veranstaltung/id-7eec1ba6-56f7-4ecd-b477-b423cde958c2/
UID:7eec1ba6-56f7-4ecd-b477-b423cde958c2
BEGIN:VALARM
ACTION:DISPLAY
DESCRIPTION:REMINDER
TRIGGER:-PT48H
END:VALARM
END:VEVENT
END:VCALENDAR