BEGIN:VCALENDAR
VERSION:2.0
PRODID:AVS
CALSCALE:GREGORIAN
REFRESH-INTERVAL;VALUE=DURATION:PT1H
BEGIN:VEVENT
DTSTART:20260829T000000
DTEND:20260829T000000
LOCATION:
DTSTAMP:20260422T031708
SUMMARY:Klettern mit der Hochtourengruppe (HG)
DESCRIPTION:Link: https://alpenverein.it/veranstaltung/id-7d4b3df1-09cb-431d-8d38-fd2dc1f546f3/
UID:7d4b3df1-09cb-431d-8d38-fd2dc1f546f3
BEGIN:VALARM
ACTION:DISPLAY
DESCRIPTION:REMINDER
TRIGGER:-PT48H
END:VALARM
END:VEVENT
END:VCALENDAR