BEGIN:VCALENDAR
VERSION:2.0
PRODID:AVS
CALSCALE:GREGORIAN
REFRESH-INTERVAL;VALUE=DURATION:PT1H
BEGIN:VEVENT
DTSTART:20230520T000000
DTEND:20230520T000000
LOCATION:
DTSTAMP:20260425T230334
SUMMARY:Klettersteig für Anfänger
DESCRIPTION:Link: https://alpenverein.it/veranstaltung/id-797c6452-e4a2-44ba-b22e-9929d455fdfa/
UID:797c6452-e4a2-44ba-b22e-9929d455fdfa
BEGIN:VALARM
ACTION:DISPLAY
DESCRIPTION:REMINDER
TRIGGER:-PT48H
END:VALARM
END:VEVENT
END:VCALENDAR