BEGIN:VCALENDAR
VERSION:2.0
PRODID:AVS
CALSCALE:GREGORIAN
REFRESH-INTERVAL;VALUE=DURATION:PT1H
BEGIN:VEVENT
DTSTART:20250809T000000
DTEND:20250810T000000
LOCATION:Bündner Alpen (CH)
DTSTAMP:20260421T101703
SUMMARY:Hochtour Piz Kesch  (3418m) Junge Alpinisten
DESCRIPTION:Link: https://alpenverein.it/veranstaltung/id-7863c4af-6098-45fd-a87a-1e6ab66048df/
UID:7863c4af-6098-45fd-a87a-1e6ab66048df
BEGIN:VALARM
ACTION:DISPLAY
DESCRIPTION:REMINDER
TRIGGER:-PT48H
END:VALARM
END:VEVENT
END:VCALENDAR