BEGIN:VCALENDAR
VERSION:2.0
PRODID:AVS
CALSCALE:GREGORIAN
REFRESH-INTERVAL;VALUE=DURATION:PT1H
BEGIN:VEVENT
DTSTART:20260502T000000
DTEND:20260502T000000
LOCATION:
DTSTAMP:20260423T220731
SUMMARY:Mountainbike-Tour am Gardasee
DESCRIPTION:Link: https://alpenverein.it/veranstaltung/id-75e34bcb-d090-4601-992e-8b848cea39d1/
UID:75e34bcb-d090-4601-992e-8b848cea39d1
BEGIN:VALARM
ACTION:DISPLAY
DESCRIPTION:REMINDER
TRIGGER:-PT48H
END:VALARM
END:VEVENT
END:VCALENDAR