BEGIN:VCALENDAR
VERSION:2.0
PRODID:AVS
CALSCALE:GREGORIAN
REFRESH-INTERVAL;VALUE=DURATION:PT1H
BEGIN:VEVENT
DTSTART:20250518T073000
DTEND:20250518T150000
LOCATION:Gfrill
DTSTAMP:20260419T150724
SUMMARY:Wanderung Gfrillner Sattel - Banklsteig
DESCRIPTION:Link: https://alpenverein.it/veranstaltung/id-70ee089f-4da0-4daf-9357-75d17b45b22a/
UID:70ee089f-4da0-4daf-9357-75d17b45b22a
BEGIN:VALARM
ACTION:DISPLAY
DESCRIPTION:REMINDER
TRIGGER:-PT48H
END:VALARM
END:VEVENT
END:VCALENDAR