BEGIN:VCALENDAR
VERSION:2.0
PRODID:AVS
CALSCALE:GREGORIAN
REFRESH-INTERVAL;VALUE=DURATION:PT1H
BEGIN:VEVENT
DTSTART:20220625T070000
DTEND:20220625T190000
LOCATION:Monte Peller
DTSTAMP:20260420T150935
SUMMARY:Wanderung im Brentagebirge
DESCRIPTION:Link: https://alpenverein.it/veranstaltung/id-6f65ce4f-f747-4237-ac67-842bbfc48597/
UID:6f65ce4f-f747-4237-ac67-842bbfc48597
BEGIN:VALARM
ACTION:DISPLAY
DESCRIPTION:REMINDER
TRIGGER:-PT48H
END:VALARM
END:VEVENT
END:VCALENDAR