BEGIN:VCALENDAR
VERSION:2.0
PRODID:AVS
CALSCALE:GREGORIAN
REFRESH-INTERVAL;VALUE=DURATION:PT1H
BEGIN:VEVENT
DTSTART:20250802T000000
DTEND:20250803T000000
LOCATION:Zillertaler Alpen
DTSTAMP:20260421T101951
SUMMARY:Hochtour Hochfeiler-Weißzint
DESCRIPTION:Link: https://alpenverein.it/veranstaltung/id-6ef48db8-2e5b-422c-bd5a-f4d0a4421dfc/
UID:6ef48db8-2e5b-422c-bd5a-f4d0a4421dfc
BEGIN:VALARM
ACTION:DISPLAY
DESCRIPTION:REMINDER
TRIGGER:-PT48H
END:VALARM
END:VEVENT
END:VCALENDAR