BEGIN:VCALENDAR
VERSION:2.0
PRODID:AVS
CALSCALE:GREGORIAN
REFRESH-INTERVAL;VALUE=DURATION:PT1H
BEGIN:VEVENT
DTSTART:20250807T000000
DTEND:20250807T000000
LOCATION:
DTSTAMP:20260421T100651
SUMMARY:Golzentipp - Obertilliach
DESCRIPTION:Link: https://alpenverein.it/veranstaltung/id-6c7eec47-4507-4298-9878-de523b404fc7/
UID:6c7eec47-4507-4298-9878-de523b404fc7
BEGIN:VALARM
ACTION:DISPLAY
DESCRIPTION:REMINDER
TRIGGER:-PT48H
END:VALARM
END:VEVENT
END:VCALENDAR