BEGIN:VCALENDAR
VERSION:2.0
PRODID:AVS
CALSCALE:GREGORIAN
REFRESH-INTERVAL;VALUE=DURATION:PT1H
BEGIN:VEVENT
DTSTART:20260515T000000
DTEND:20260522T000000
LOCATION:
DTSTAMP:20260423T221706
SUMMARY:Wanderreise Kroatien
DESCRIPTION:Link: https://alpenverein.it/veranstaltung/id-6b2f4b84-8653-4542-b28d-01017b8bc6eb/
UID:6b2f4b84-8653-4542-b28d-01017b8bc6eb
BEGIN:VALARM
ACTION:DISPLAY
DESCRIPTION:REMINDER
TRIGGER:-PT48H
END:VALARM
END:VEVENT
END:VCALENDAR