BEGIN:VCALENDAR
VERSION:2.0
PRODID:AVS
CALSCALE:GREGORIAN
REFRESH-INTERVAL;VALUE=DURATION:PT1H
BEGIN:VEVENT
DTSTART:20260423T000000
DTEND:20260423T000000
LOCATION:Monte Casale
DTSTAMP:20260422T032130
SUMMARY:Anmeldeschluss - Klettersteig Che Guevara und Monte Casale
DESCRIPTION:Link: https://alpenverein.it/veranstaltung/id-693ee899-6373-4f90-aaa4-a480198eed38/
UID:693ee899-6373-4f90-aaa4-a480198eed38-registration
BEGIN:VALARM
ACTION:DISPLAY
DESCRIPTION:REMINDER
TRIGGER:-PT48H
END:VALARM
END:VEVENT
BEGIN:VEVENT
DTSTART:20260413T000000
DTEND:20260413T000000
LOCATION:Monte Casale
DTSTAMP:20260422T032130
SUMMARY:Erinnerung Anmeldeschluss - Klettersteig Che Guevara und Monte Casale
DESCRIPTION:Link: https://alpenverein.it/veranstaltung/id-693ee899-6373-4f90-aaa4-a480198eed38/
UID:693ee899-6373-4f90-aaa4-a480198eed38-registration
BEGIN:VALARM
ACTION:DISPLAY
DESCRIPTION:REMINDER
TRIGGER:-PT1H
END:VALARM
END:VEVENT
BEGIN:VEVENT
DTSTART:20260425T073000
DTEND:20260425T160000
LOCATION:Monte Casale
DTSTAMP:20260422T032130
SUMMARY:Klettersteig Che Guevara und Monte Casale
DESCRIPTION:Link: https://alpenverein.it/veranstaltung/id-693ee899-6373-4f90-aaa4-a480198eed38/
UID:693ee899-6373-4f90-aaa4-a480198eed38
BEGIN:VALARM
ACTION:DISPLAY
DESCRIPTION:REMINDER
TRIGGER:-PT48H
END:VALARM
END:VEVENT
END:VCALENDAR