BEGIN:VCALENDAR
VERSION:2.0
PRODID:AVS
CALSCALE:GREGORIAN
REFRESH-INTERVAL;VALUE=DURATION:PT1H
BEGIN:VEVENT
DTSTART:20220606T080000
DTEND:20220606T080000
LOCATION:Salurn
DTSTAMP:20260422T001842
SUMMARY:Jugend-Klettersteig - Rio Secco
DESCRIPTION:Link: https://alpenverein.it/veranstaltung/id-6824fda3-4dc6-458d-a2e0-58b08df90ac6/
UID:6824fda3-4dc6-458d-a2e0-58b08df90ac6
BEGIN:VALARM
ACTION:DISPLAY
DESCRIPTION:REMINDER
TRIGGER:-PT48H
END:VALARM
END:VEVENT
END:VCALENDAR