BEGIN:VCALENDAR
VERSION:2.0
PRODID:AVS
CALSCALE:GREGORIAN
REFRESH-INTERVAL;VALUE=DURATION:PT1H
BEGIN:VEVENT
DTSTART:20230601T000000
DTEND:20230601T000000
LOCATION:
DTSTAMP:20260420T185442
SUMMARY:Wanderung im Schlerngebiet: Oachner Höfeweg
DESCRIPTION:Link: https://alpenverein.it/veranstaltung/id-6421ce68-a663-4894-b58e-4897b8b308ef/
UID:6421ce68-a663-4894-b58e-4897b8b308ef
BEGIN:VALARM
ACTION:DISPLAY
DESCRIPTION:REMINDER
TRIGGER:-PT48H
END:VALARM
END:VEVENT
END:VCALENDAR