BEGIN:VCALENDAR
VERSION:2.0
PRODID:AVS
CALSCALE:GREGORIAN
REFRESH-INTERVAL;VALUE=DURATION:PT1H
BEGIN:VEVENT
DTSTART:20260514T000000
DTEND:20260514T000000
LOCATION:Fai della Paganella
DTSTAMP:20260423T221808
SUMMARY:Anmeldeschluss - AVS Tour Ferrata Croce di Fai (Klettersteig) und Croce di Mezzolombardo
DESCRIPTION:Link: https://alpenverein.it/veranstaltung/id-63dc08d3-ed92-408f-b61c-d7599760289e/
UID:63dc08d3-ed92-408f-b61c-d7599760289e-registration
BEGIN:VALARM
ACTION:DISPLAY
DESCRIPTION:REMINDER
TRIGGER:-PT48H
END:VALARM
END:VEVENT
BEGIN:VEVENT
DTSTART:20260504T000000
DTEND:20260504T000000
LOCATION:Fai della Paganella
DTSTAMP:20260423T221808
SUMMARY:Erinnerung Anmeldeschluss - AVS Tour Ferrata Croce di Fai (Klettersteig) und Croce di Mezzolombardo
DESCRIPTION:Link: https://alpenverein.it/veranstaltung/id-63dc08d3-ed92-408f-b61c-d7599760289e/
UID:63dc08d3-ed92-408f-b61c-d7599760289e-registration
BEGIN:VALARM
ACTION:DISPLAY
DESCRIPTION:REMINDER
TRIGGER:-PT1H
END:VALARM
END:VEVENT
BEGIN:VEVENT
DTSTART:20260516T000000
DTEND:20260516T000000
LOCATION:Fai della Paganella
DTSTAMP:20260423T221808
SUMMARY:AVS Tour Ferrata Croce di Fai (Klettersteig) und Croce di Mezzolombardo
DESCRIPTION:Link: https://alpenverein.it/veranstaltung/id-63dc08d3-ed92-408f-b61c-d7599760289e/
UID:63dc08d3-ed92-408f-b61c-d7599760289e
BEGIN:VALARM
ACTION:DISPLAY
DESCRIPTION:REMINDER
TRIGGER:-PT48H
END:VALARM
END:VEVENT
END:VCALENDAR