BEGIN:VCALENDAR
VERSION:2.0
PRODID:AVS
CALSCALE:GREGORIAN
REFRESH-INTERVAL;VALUE=DURATION:PT1H
BEGIN:VEVENT
DTSTART:20220723T000000
DTEND:20220724T000000
LOCATION:
DTSTAMP:20260423T211118
SUMMARY:Hochtour Schrankogel
DESCRIPTION:Link: https://alpenverein.it/veranstaltung/id-5e1705f1-d754-4592-88ff-961c09d54daa/
UID:5e1705f1-d754-4592-88ff-961c09d54daa
BEGIN:VALARM
ACTION:DISPLAY
DESCRIPTION:REMINDER
TRIGGER:-PT48H
END:VALARM
END:VEVENT
END:VCALENDAR