BEGIN:VCALENDAR
VERSION:2.0
PRODID:AVS
CALSCALE:GREGORIAN
REFRESH-INTERVAL;VALUE=DURATION:PT1H
BEGIN:VEVENT
DTSTART:20260509T000000
DTEND:20260509T000000
LOCATION:Ellen
DTSTAMP:20260422T032122
SUMMARY:Sonnenaufgang am Astjoch
DESCRIPTION:Link: https://alpenverein.it/veranstaltung/id-5dc38757-f7b7-45fd-b8f9-b902d911d597/
UID:5dc38757-f7b7-45fd-b8f9-b902d911d597
BEGIN:VALARM
ACTION:DISPLAY
DESCRIPTION:REMINDER
TRIGGER:-PT48H
END:VALARM
END:VEVENT
END:VCALENDAR