BEGIN:VCALENDAR
VERSION:2.0
PRODID:AVS
CALSCALE:GREGORIAN
REFRESH-INTERVAL;VALUE=DURATION:PT1H
BEGIN:VEVENT
DTSTART:20220807T063000
DTEND:20220807T063000
LOCATION:Latemar
DTSTAMP:20260423T121420
SUMMARY:Überschreitung Latemarmassiv
DESCRIPTION:Link: https://alpenverein.it/veranstaltung/id-5bc25599-b93e-4f19-b82e-5f44e37c6b44/
UID:5bc25599-b93e-4f19-b82e-5f44e37c6b44
BEGIN:VALARM
ACTION:DISPLAY
DESCRIPTION:REMINDER
TRIGGER:-PT48H
END:VALARM
END:VEVENT
END:VCALENDAR