BEGIN:VCALENDAR
VERSION:2.0
PRODID:AVS
CALSCALE:GREGORIAN
REFRESH-INTERVAL;VALUE=DURATION:PT1H
BEGIN:VEVENT
DTSTART:20260808T000000
DTEND:20260809T000000
LOCATION:
DTSTAMP:20260422T032005
SUMMARY:Hochtour, Schwarze Wand 2.971m, Rosslauf 2.881 m, Gschnitzer Tribulaun 2.945m
DESCRIPTION:Link: https://alpenverein.it/veranstaltung/id-55ee4281-6d6e-483d-8b92-43583e791b1d/
UID:55ee4281-6d6e-483d-8b92-43583e791b1d
BEGIN:VALARM
ACTION:DISPLAY
DESCRIPTION:REMINDER
TRIGGER:-PT48H
END:VALARM
END:VEVENT
END:VCALENDAR