BEGIN:VCALENDAR
VERSION:2.0
PRODID:AVS
CALSCALE:GREGORIAN
REFRESH-INTERVAL;VALUE=DURATION:PT1H
BEGIN:VEVENT
DTSTART:20240428T080000
DTEND:20240428T150000
LOCATION:Ballino\, Tenno
DTSTAMP:20260425T175631
SUMMARY:Klettersteig "Signora delle Acque"
DESCRIPTION:Link: https://alpenverein.it/veranstaltung/id-555fef49-44ff-4750-ad06-e8dcfe6f9345/
UID:555fef49-44ff-4750-ad06-e8dcfe6f9345
BEGIN:VALARM
ACTION:DISPLAY
DESCRIPTION:REMINDER
TRIGGER:-PT48H
END:VALARM
END:VEVENT
END:VCALENDAR