BEGIN:VCALENDAR
VERSION:2.0
PRODID:AVS
CALSCALE:GREGORIAN
REFRESH-INTERVAL;VALUE=DURATION:PT1H
BEGIN:VEVENT
DTSTART:20250614T000000
DTEND:20250614T000000
LOCATION:Sarntal
DTSTAMP:20260420T004738
SUMMARY:Wege- und Markierungstag
DESCRIPTION:Link: https://alpenverein.it/veranstaltung/id-45e61e82-2ae6-46aa-8b82-c9c732df062b/
UID:45e61e82-2ae6-46aa-8b82-c9c732df062b
BEGIN:VALARM
ACTION:DISPLAY
DESCRIPTION:REMINDER
TRIGGER:-PT48H
END:VALARM
END:VEVENT
END:VCALENDAR