BEGIN:VCALENDAR
VERSION:2.0
PRODID:AVS
CALSCALE:GREGORIAN
REFRESH-INTERVAL;VALUE=DURATION:PT1H
BEGIN:VEVENT
DTSTART:20220116T000000
DTEND:20220116T000000
LOCATION:
DTSTAMP:20260423T213049
SUMMARY:Winterwanderung zur Stöffelhütte 
DESCRIPTION:Link: https://alpenverein.it/veranstaltung/id-41d6dc0c-0aa2-4508-9658-c9431927c2c4/
UID:41d6dc0c-0aa2-4508-9658-c9431927c2c4
BEGIN:VALARM
ACTION:DISPLAY
DESCRIPTION:REMINDER
TRIGGER:-PT48H
END:VALARM
END:VEVENT
END:VCALENDAR