BEGIN:VCALENDAR
VERSION:2.0
PRODID:AVS
CALSCALE:GREGORIAN
REFRESH-INTERVAL;VALUE=DURATION:PT1H
BEGIN:VEVENT
DTSTART:20251012T083000
DTEND:20251012T083000
LOCATION:Vellau
DTSTAMP:20260423T171656
SUMMARY:Vellauer Felsenweg
DESCRIPTION:Link: https://alpenverein.it/veranstaltung/id-3ebd8059-ff06-48ef-94f9-0963c2238296/
UID:3ebd8059-ff06-48ef-94f9-0963c2238296
BEGIN:VALARM
ACTION:DISPLAY
DESCRIPTION:REMINDER
TRIGGER:-PT48H
END:VALARM
END:VEVENT
END:VCALENDAR