BEGIN:VCALENDAR
VERSION:2.0
PRODID:AVS
CALSCALE:GREGORIAN
REFRESH-INTERVAL;VALUE=DURATION:PT1H
BEGIN:VEVENT
DTSTART:20220626T000000
DTEND:20220626T000000
LOCATION:Lavinaspitz / Mendel
DTSTAMP:20260420T065823
SUMMARY:Herz Jesu Feuer
DESCRIPTION:Link: https://alpenverein.it/veranstaltung/id-3cd21dc5-5154-4485-abab-467ce8a6f971/
UID:3cd21dc5-5154-4485-abab-467ce8a6f971
BEGIN:VALARM
ACTION:DISPLAY
DESCRIPTION:REMINDER
TRIGGER:-PT48H
END:VALARM
END:VEVENT
END:VCALENDAR